BEGIN:VCALENDAR
VERSION:2.0
PRODID:-//Tukios.com/
BEGIN:VEVENT
UID:e74f4e97-d298-46c9-9087-33df0ae5a308@www.petersonblickfuneralhome.com
DTSTAMP:20260420T214735Z
DTSTART:20260423T183000Z
DTEND:20260423T193000Z
SUMMARY:Graveside Service
DESCRIPTION:
URL:https://www.petersonblickfuneralhome.com/obituaries/nancy-sleeman-szopinski
LOCATION:Kitchen Cemetery 5253-5281 Yankee Bush Rd  Warren PA 16365
GEO:41.8944726;-79.2563175
END:VEVENT
END:VCALENDAR