BEGIN:VCALENDAR
VERSION:2.0
PRODID:-//Tukios.com/
BEGIN:VEVENT
UID:cdc135f6-1f74-4fac-9887-a2ef32a6b677@www.petersonblickfuneralhome.com
DTSTAMP:20260420T193109Z
DTSTART:20260422T160000Z
DTEND:20260422T170000Z
SUMMARY:Funeral Service
DESCRIPTION:
URL:https://www.petersonblickfuneralhome.com/obituaries/madolyn-elder
LOCATION:First Lutheran Church 109 West 3rd Avenue  Warren PA 16365
GEO:41.8463379;-79.1440398
END:VEVENT
END:VCALENDAR