BEGIN:VCALENDAR
VERSION:2.0
PRODID:-//Tukios.com/
BEGIN:VEVENT
UID:9db0eec1-0ba2-4976-9e96-0f1daee85c76@www.petersonblickfuneralhome.com
DTSTAMP:20260420T193222Z
DTSTART:20260422T140000Z
DTEND:20260422T160000Z
SUMMARY:Visitation
DESCRIPTION:
URL:https://www.petersonblickfuneralhome.com/obituaries/madolyn-elder
LOCATION:First Lutheran Church 109 West 3rd Avenue  Warren PA 16365
GEO:41.8463379;-79.1440398
END:VEVENT
END:VCALENDAR